BEGIN:VCALENDAR
VERSION:2.0
PRODID:-//wp-events-plugin.com//7.2.3.1//EN
TZID:America/Chicago
X-WR-TIMEZONE:America/Chicago
BEGIN:VEVENT
UID:682@thecraftchicks.com
DTSTART;TZID=America/Chicago:20251011T140000
DTEND;TZID=America/Chicago:20251011T160000
DTSTAMP:20251003T211927Z
URL:https://thecraftchicks.com/event/jennas-12th-birthday/
SUMMARY:Jenna's 12th Birthday
DESCRIPTION:HAPPY BIRTHDAY JENNA\n\n2-4pm Jenna's Birthday will take up one
  table.
ATTACH;FMTTYPE=image/jpeg:https://thecraftchicks.com/wp-content/uploads/20
 25/10/1.png
END:VEVENT
BEGIN:VTIMEZONE
TZID:America/Chicago
X-LIC-LOCATION:America/Chicago
BEGIN:DAYLIGHT
DTSTART:20250309T030000
TZOFFSETFROM:-0600
TZOFFSETTO:-0500
TZNAME:CDT
END:DAYLIGHT
END:VTIMEZONE
END:VCALENDAR