BEGIN:VCALENDAR
VERSION:2.0
PRODID:-//wp-events-plugin.com//7.2.3.1//EN
TZID:America/Chicago
X-WR-TIMEZONE:America/Chicago
BEGIN:VEVENT
UID:205@thecraftchicks.com
DTSTART;TZID=America/Chicago:20240920T180000
DTEND;TZID=America/Chicago:20240920T200000
DTSTAMP:20240920T142242Z
URL:https://thecraftchicks.com/event/interchangeable-standing-prjoect/
SUMMARY:Interchangeable Standing Prjoect
DESCRIPTION:We are offering this beautiful project for 65$ in this one time
  special event. Come in and make one for you house. This would be a beauti
 ful project for entry table kitchen or living room. You can keep it up all
  season long. For this class only each additional interchangeable (Fall\, 
 Halloween\, or Christmas) will only be 20$ refulary 30$. This project will
  only be offered this one time on Friday the 20th. Bring a friend\, food\,
  drinks and have a great time. BYOB
ATTACH;FMTTYPE=image/jpeg:https://thecraftchicks.com/wp-content/uploads/20
 24/08/unnamed-scaled.jpeg
END:VEVENT
BEGIN:VTIMEZONE
TZID:America/Chicago
X-LIC-LOCATION:America/Chicago
BEGIN:DAYLIGHT
DTSTART:20240310T030000
TZOFFSETFROM:-0600
TZOFFSETTO:-0500
TZNAME:CDT
END:DAYLIGHT
END:VTIMEZONE
END:VCALENDAR