BEGIN:VCALENDAR
VERSION:2.0
PRODID:-//wp-events-plugin.com//7.2.3.1//EN
TZID:America/Chicago
X-WR-TIMEZONE:America/Chicago
BEGIN:VEVENT
UID:295@thecraftchicks.com
DTSTART;TZID=America/Chicago:20241110T130000
DTEND;TZID=America/Chicago:20241110T180000
DTSTAMP:20241018T182136Z
URL:https://thecraftchicks.com/event/interchangeable-standing-prjoect-3/
SUMMARY:Interchangeable Standing Prjoect
DESCRIPTION:We are offering this beautiful project for 65$ on this Sunday s
 pecial event. Come in and make one for you house. This would be a beautifu
 l project for entry table kitchen or living room. You can keep it up all s
 eason long. For this class only each additional interchangeable (Fall\, Ha
 lloween\, or Christmas) will only be 20$ refulary 30$. This is a must regi
 ster event project takes about two hours when you register it saves your s
 pot for the entire day but please be in shop by 4pm to have enough time to
  finish.  This project special will only be offered on select Sundays. Br
 ing a friend\, food\, drinks craft and have a great time. BYOB
ATTACH;FMTTYPE=image/jpeg:https://thecraftchicks.com/wp-content/uploads/20
 24/08/unnamed-scaled.jpeg
END:VEVENT
BEGIN:VTIMEZONE
TZID:America/Chicago
X-LIC-LOCATION:America/Chicago
BEGIN:STANDARD
DTSTART:20241103T010000
TZOFFSETFROM:-0500
TZOFFSETTO:-0600
TZNAME:CST
END:STANDARD
END:VTIMEZONE
END:VCALENDAR