BEGIN:VCALENDAR
VERSION:2.0
PRODID:-//wp-events-plugin.com//7.2.3.1//EN
TZID:America/Chicago
X-WR-TIMEZONE:America/Chicago
BEGIN:VEVENT
UID:680@thecraftchicks.com
DTSTART;TZID=America/Chicago:20251017T180000
DTEND;TZID=America/Chicago:20251017T200000
DTSTAMP:20250926T214052Z
URL:https://thecraftchicks.com/event/interchangeable-post-craft-evening/
SUMMARY:Interchangeable Post Craft Evening
DESCRIPTION:Come and create a fun interchangeable Post for your home. For e
 very holiday there is a design you can change it to. This class we will be
  offering 5 options. The post will cost $55  and come with one interchang
 eable design. Each additional interchangeable design will cost and additio
 nal $30.\n\nBYOB! Bring your own beverage and snacks! Have fun making some
 thing you can enjoy all year long!
ATTACH;FMTTYPE=image/jpeg:https://thecraftchicks.com/wp-content/uploads/20
 25/09/Copy-of-Beige-Collage-Year-Highlights-Instagram-Story-8.png
END:VEVENT
BEGIN:VTIMEZONE
TZID:America/Chicago
X-LIC-LOCATION:America/Chicago
BEGIN:DAYLIGHT
DTSTART:20250309T030000
TZOFFSETFROM:-0600
TZOFFSETTO:-0500
TZNAME:CDT
END:DAYLIGHT
END:VTIMEZONE
END:VCALENDAR