BEGIN:VCALENDAR
VERSION:2.0
PRODID:-//wp-events-plugin.com//7.2.3.1//EN
TZID:America/Chicago
X-WR-TIMEZONE:America/Chicago
BEGIN:VEVENT
UID:249@thecraftchicks.com
DTSTART;TZID=America/Chicago:20241024T190000
DTEND;TZID=America/Chicago:20241024T210000
DTSTAMP:20240925T184733Z
URL:https://thecraftchicks.com/event/halloween-cookie-decorating-class/
SUMMARY:Halloween Cookie Decorating Class!
DESCRIPTION:Join us on Thursday\, October 24th\, at 7 PM at The Craft Chick
 s in Old Town Tomball for a Halloween cookie decorating class.\n\nWant to 
 learn how to decorate sugar cookies? Join our class for beginners!(Hosted 
 by Gifted and Grace founder Kelsey!)\nNo experience needed.\nWe will cover
  simple piping and filling techniques\, and you'll take home Three decorat
 ed cookies\,\njust like the picture – all the supplies will be provided.
 \n\nBring your own drinks (alcoholic drinks are allowed) and snacks.\n\nCl
 ick Here to Register
ATTACH;FMTTYPE=image/jpeg:https://thecraftchicks.com/wp-content/uploads/20
 24/09/1024-cookie-class.jpeg
END:VEVENT
BEGIN:VTIMEZONE
TZID:America/Chicago
X-LIC-LOCATION:America/Chicago
BEGIN:DAYLIGHT
DTSTART:20240310T030000
TZOFFSETFROM:-0600
TZOFFSETTO:-0500
TZNAME:CDT
END:DAYLIGHT
END:VTIMEZONE
END:VCALENDAR