BEGIN:VCALENDAR
VERSION:2.0
PRODID:-//wp-events-plugin.com//7.2.3.1//EN
TZID:America/Chicago
X-WR-TIMEZONE:America/Chicago
BEGIN:VEVENT
UID:727@thecraftchicks.com
DTSTART;TZID=America/Chicago:20251125T083000
DTEND;TZID=America/Chicago:20251125T153000
DTSTAMP:20251124T162517Z
URL:https://thecraftchicks.com/event/grateful-turkey-art-camp-2/
SUMMARY:Thankful Turkey Art Camp
DESCRIPTION:Bring Your Grateful Turkey to Art Thanksgiving Day Camp for $10
 0 a Day. November 24th\, 25th or 26th or you can register for all three!\n
 \nSpace is LIMITED we will only be taking 10 kids per day! AGES 6-14yr\n\n
 Take this time to Go shopping\, cook\, work\, rest\, or whatever you need 
 to do. We will keep them for 7 hrs! Please\, lunch and water bottle we wil
 l provide snacks.
ATTACH;FMTTYPE=image/jpeg:https://thecraftchicks.com/wp-content/uploads/20
 25/10/Beige-and-Orange-Illustrative-Happy-Thanksgiving-Instagram-Post-1920
 -x-1080-px.png
END:VEVENT
BEGIN:VTIMEZONE
TZID:America/Chicago
X-LIC-LOCATION:America/Chicago
BEGIN:STANDARD
DTSTART:20251102T010000
TZOFFSETFROM:-0500
TZOFFSETTO:-0600
TZNAME:CST
END:STANDARD
END:VTIMEZONE
END:VCALENDAR