BEGIN:VCALENDAR
VERSION:2.0
PRODID:-//wp-events-plugin.com//7.2.3.1//EN
TZID:America/Chicago
X-WR-TIMEZONE:America/Chicago
BEGIN:VEVENT
UID:668@thecraftchicks.com
DTSTART;TZID=America/Chicago:20251003T190000
DTEND;TZID=America/Chicago:20251003T210000
DTSTAMP:20250924T193844Z
URL:https://thecraftchicks.com/event/gifted-and-grace-cookie-decorating-ta
 ylor-swift-cookies/
SUMMARY:Gifted and Grace Cookie Decorating Taylor Swift Cookies Celebrating
  new Album
DESCRIPTION:✨ Special Event: Taylor Swift Album Release Cookie Decorating
  Party ✨\n\nCome celebrate Swift’s newest album\, Life of a Showgirl 
 with Gifted and Grace at The Craft Chicks! We’ll have her music playing
  throughout the night while we decorate cookies!\n\nWhat’s included:\n\n
  	Hands-on cookie decorating class (all supplies provided)\n 	Recipe &amp\
 ; supplies booklet to take home\n 	BYOB (snacks welcome too!)\n 	A decorat
 ed cookie by me\, Kelsey—the face behind Gifted &amp\; Grace\n\nThis cla
 ss is laid-back\, creative\, and the perfect way to spend an evening with 
 friends\, family\, or fellow Swifties—plus you’ll pick up some sweet n
 ew cookie skills!\n\nREGISTER HERE gifted &amp\; grace Link
ATTACH;FMTTYPE=image/jpeg:https://thecraftchicks.com/wp-content/uploads/20
 25/08/tgg.jpeg
END:VEVENT
BEGIN:VTIMEZONE
TZID:America/Chicago
X-LIC-LOCATION:America/Chicago
BEGIN:DAYLIGHT
DTSTART:20250309T030000
TZOFFSETFROM:-0600
TZOFFSETTO:-0500
TZNAME:CDT
END:DAYLIGHT
END:VTIMEZONE
END:VCALENDAR