BEGIN:VCALENDAR
VERSION:2.0
PRODID:-//wp-events-plugin.com//7.2.3.1//EN
TZID:America/Chicago
X-WR-TIMEZONE:America/Chicago
BEGIN:VEVENT
UID:863@thecraftchicks.com
DTSTART;TZID=America/Chicago:20260215T130000
DTEND;TZID=America/Chicago:20260215T150000
DTSTAMP:20260212T210631Z
URL:https://thecraftchicks.com/event/get-hooked-beginner-crochet-class-202
 6-02-15/
SUMMARY:Get Hooked: Beginner Crochet Class!
DESCRIPTION:Get Hooked: Beginner Crochet Class that will feel like a Party!
 \nReady to turn a ball of yarn into something adorable?\n\nJoin us this Su
 nday from 1:00 PM – 3:00 PM for a\nbeginner-friendly crochet workshop! W
 hether you've never touched a hook or just want to learn a new\nhobby\, th
 is class is the perfect place to start.\nWe provide everything you need to
  get stitching—from colorful yarn and your very own crochet hook to\nste
 p-by-step guidance. You’ll learn the basics and complete a mini project 
 to take home that very same\nday! Just bring yourself\, your favorite snac
 ks\, and a drink\, and get ready for a "totes" cute afternoon of\ncrafting
 .  Come have fun learning a new fun craft! Tell a friend  and see you so
 on.
ATTACH;FMTTYPE=image/jpeg:https://thecraftchicks.com/wp-content/uploads/20
 26/02/2921645483865134297.jpg
CATEGORIES:crochet
END:VEVENT
BEGIN:VTIMEZONE
TZID:America/Chicago
X-LIC-LOCATION:America/Chicago
BEGIN:STANDARD
DTSTART:20251102T010000
TZOFFSETFROM:-0500
TZOFFSETTO:-0600
TZNAME:CST
END:STANDARD
END:VTIMEZONE
END:VCALENDAR