BEGIN:VCALENDAR
VERSION:2.0
PRODID:-//wp-events-plugin.com//7.2.3.1//EN
TZID:America/Chicago
X-WR-TIMEZONE:America/Chicago
BEGIN:VEVENT
UID:927@thecraftchicks.com
DTSTART;TZID=America/Chicago:20260315T130000
DTEND;TZID=America/Chicago:20260315T150000
DTSTAMP:20260225T220725Z
URL:https://thecraftchicks.com/event/get-hooked-beginner-crochet-class-2-2
 026-03-15/
SUMMARY:Get Hooked: Beginner Crochet Class!
DESCRIPTION:Get Hooked: Beginner Crochet Class that will feel like a Party!
 \nReady to turn a ball of yarn into something adorable? Join us this Sunda
 y from 1:00 PM – 3:00 PM for a\nbeginner-friendly crochet workshop! Whet
 her you've never touched a hook or just want to learn a new\nhobby\, this 
 class is the perfect place to start.\nWe provide everything you need to ge
 t stitching—from colorful yarn and your very own crochet hook to\nstep-b
 y-step guidance. You’ll learn the basics and complete a mini project to 
 take home that very same\nday! Just bring yourself\, your favorite snacks\
 , and a drink\, and get ready for a "totes" cute afternoon of\ncrafting. 
  Come have fun learning a new fun craft! Tell a friend  and see you soon.
ATTACH;FMTTYPE=image/jpeg:https://thecraftchicks.com/wp-content/uploads/20
 26/02/2921645483865134297.jpg
CATEGORIES:crochet
END:VEVENT
BEGIN:VTIMEZONE
TZID:America/Chicago
X-LIC-LOCATION:America/Chicago
BEGIN:DAYLIGHT
DTSTART:20260308T030000
TZOFFSETFROM:-0600
TZOFFSETTO:-0500
TZNAME:CDT
END:DAYLIGHT
END:VTIMEZONE
END:VCALENDAR