BEGIN:VCALENDAR
VERSION:2.0
PRODID:-//wp-events-plugin.com//7.2.3.1//EN
TZID:America/Chicago
X-WR-TIMEZONE:America/Chicago
BEGIN:VEVENT
UID:256@thecraftchicks.com
DTSTART;TZID=America/Chicago:20241027T130000
DTEND;TZID=America/Chicago:20241027T170000
DTSTAMP:20241009T171245Z
URL:https://thecraftchicks.com/event/free-bow-pumpkin-sundays-2024-10-27/
SUMMARY:Free Bow Pumpkin Sundays!
DESCRIPTION:Till the end of October we are offering free bows with a pumpki
 n project Sundays ONLY! Come bring a friend and create a unique fall proje
 ct. BYOB and you can also bring your snacks. There will only be 10 spots e
 ach Sunday. This Event will run through the end of October. Registration R
 equired. Class is $40 per Pumpkin price includes custom stencil\, paint an
 d bow. Free bows ONLY on Sundays till the end of October.\n\nP.S no fighti
 ng over the bows.\n\nSee you Sunday!
ATTACH;FMTTYPE=image/jpeg:https://thecraftchicks.com/wp-content/uploads/20
 24/09/Pumkins-Bows-pdf.jpg
END:VEVENT
BEGIN:VTIMEZONE
TZID:America/Chicago
X-LIC-LOCATION:America/Chicago
BEGIN:DAYLIGHT
DTSTART:20240310T030000
TZOFFSETFROM:-0600
TZOFFSETTO:-0500
TZNAME:CDT
END:DAYLIGHT
END:VTIMEZONE
END:VCALENDAR