BEGIN:VCALENDAR
VERSION:2.0
PRODID:-//wp-events-plugin.com//7.2.3.1//EN
TZID:America/Chicago
X-WR-TIMEZONE:America/Chicago
BEGIN:VEVENT
UID:502@thecraftchicks.com
DTSTART;TZID=America/Chicago:20250606T090000
DTEND;TZID=America/Chicago:20250606T130000
DTSTAMP:20250508T232206Z
URL:https://thecraftchicks.com/event/fairy-camp-4/
SUMMARY:Resin Camp
DESCRIPTION:&nbsp\;\n\nPLEASE REGISTER FOR EVENT from Calendar Day June 4th
 \n\nJoin us for Resin camp!  During this 3 day camp we will be making all
  things Resin!\n\nResin Canvas\, Resin Coasters\, Resin Jewelry\, Resin Gl
 ass Art and their own person Charcuterie Board..the possibilities are endl
 ess!\nCome delight in the Art of Resin.  We will use beautiful materials 
 to create something colorful and unique.  Each camper will create their o
 wn special unique  project with plenty of guidance. But the fun does not 
 stop there!\nProjects:\n\n\n 	Resin Canvas\n 	Resin Jewelry\n 	Resin Glass
  Art\n 	Resin Charcuterie Board\n 	Resin Coasters\n\n(All campers will get
  a camp shirt upon registration please email us the youth T- shirt size to
  the craftchcickstomball@gmail.com (we do usually advise a size larger the
 y serve as smocks to protect clothes)\nNo prior experience necessary.  Al
 l materials and tools are provided. BUT Please note RESIN does NoT Come ou
 t of clothes so  bring clothes to old ripped etc  with you to camp.\n&nb
 sp\;\nCamp will be from 9am - 1pm\nIF camper has to come early in-order t
 o attend they can be here at 8:15am. They just have to bring a device or t
 hey can color in or books. Camp will start at 9am.\n\n\nRegistration for c
 amp includes a camp t shirt and daily crafts.\n\nCampers will need to brin
 g a snacks/lunch and water bottle.\n\nAges 8 - 14 (Teens and children 8-11
  will be on seperate tables)\n\nWe will provide snacks :)\n\nCamp fees are
  non-refundable.  If camper is not able to participate in the camp they r
 egistered for\, we will allow camper to transfer to another camp.
ATTACH;FMTTYPE=image/jpeg:https://thecraftchicks.com/wp-content/uploads/20
 25/04/Fairy.png
END:VEVENT
BEGIN:VTIMEZONE
TZID:America/Chicago
X-LIC-LOCATION:America/Chicago
BEGIN:DAYLIGHT
DTSTART:20250309T030000
TZOFFSETFROM:-0600
TZOFFSETTO:-0500
TZNAME:CDT
END:DAYLIGHT
END:VTIMEZONE
END:VCALENDAR