BEGIN:VCALENDAR
VERSION:2.0
PRODID:-//wp-events-plugin.com//7.2.3.1//EN
TZID:America/Chicago
X-WR-TIMEZONE:America/Chicago
BEGIN:VEVENT
UID:494@thecraftchicks.com
DTSTART;TZID=America/Chicago:20260610T090000
DTEND;TZID=America/Chicago:20260612T130000
DTSTAMP:20260401T214302Z
URL:https://thecraftchicks.com/event/fairy-camp-2/
SUMMARY:Trinket Camp
DESCRIPTION:Join us for Trinket Camp!  During this 3 day camp we will be m
 aking wonderful fun Trinket Projects!\n\nNecklaces\, Bracelets\, Purse/bac
 kpack accessories\, clay earrings\, Jewelry hangers Painted Jeans\, bows..
 the possibilities are endless!\nCome delight in this wonderful experience.
   We will use beautiful materials to create many different unique and col
 orful projects. Each camper will create their own special pieces with plen
 ty of guidance. But the fun does not stop there!\nProjects:\n\n\n 	Necklac
 e\n 	Bow ( you will learn how to sew one from just material)\n 	Bracelets\
 n 	Jewelry Board\n 	Purse/Backpack accessories\n 	Painted jeans/short ( mu
 st bring your own you own they can be jeans that are too short we can make
  into fun shorts.)\n 	Clay Earrings...and More!\n\n(All campers will get a
  camp shirt upon registration please email us the youth T- shirt size to t
 he craftchcickstomball@gmail.com (we do usually advise a size larger they 
 serve as smocks to protect clothes) No prior experience is Necessary.\nCam
 p will be from 9am - 1pm\nRegistration for camp includes a camp t shirt a
 nd daily crafts.\n\nCampers will need to bring a snacks/lunch and water bo
 ttle.\n\nAges 6 - 14 (5 year olds are permitted when accompanied by siblin
 g)\n\nWe will provide snacks :)\n\nCamp fees are non-refundable.  If camp
 er is not able to participate in the camp they registered for\, we will al
 low camper to transfer to another camp.
ATTACH;FMTTYPE=image/jpeg:https://thecraftchicks.com/wp-content/uploads/20
 25/04/Trinket-Camp-instagram.png
CATEGORIES:Camp
END:VEVENT
BEGIN:VTIMEZONE
TZID:America/Chicago
X-LIC-LOCATION:America/Chicago
BEGIN:DAYLIGHT
DTSTART:20260308T030000
TZOFFSETFROM:-0600
TZOFFSETTO:-0500
TZNAME:CDT
END:DAYLIGHT
END:VTIMEZONE
END:VCALENDAR