BEGIN:VCALENDAR
VERSION:2.0
PRODID:-//wp-events-plugin.com//7.2.3.1//EN
TZID:America/Chicago
X-WR-TIMEZONE:America/Chicago
BEGIN:VEVENT
UID:570@thecraftchicks.com
DTSTART;TZID=America/Chicago:20250810T150000
DTEND;TZID=America/Chicago:20250810T170000
DTSTAMP:20250806T190304Z
URL:https://thecraftchicks.com/event/doerre-warriors-cheer-paint-party/
SUMMARY:Doerre Warriors Cheer Paint Party
DESCRIPTION:Hello and welcome to the Craft Chicks Doerre Warriors! We are s
 o happy to be hosting your paint party here. You are welcome to bring food
  and drinks a food table is proided. Please register for a project below. 
 Then PLEASE EMAIL us the NAME you would like on your project option to the
 craftchickstomball@gmail.com. LAST DAY TO REGISTER August 7th at NOON. Pr
 ojects can be painted any way you want with the many color options we have
 . YES we have GLITTER!See Y'all Soon!Bows are not included in project cost
  but are available for purchase 10-15$ and large greenery ones 20-25$All p
 rojects are non-refundable but if you cannot attend you can come at a late
 r time and paint the project or we will pack it as a to-go kit and send it
  with the party host. 
ATTACH;FMTTYPE=image/jpeg:https://thecraftchicks.com/wp-content/uploads/20
 25/07/4.png
END:VEVENT
BEGIN:VTIMEZONE
TZID:America/Chicago
X-LIC-LOCATION:America/Chicago
BEGIN:DAYLIGHT
DTSTART:20250309T030000
TZOFFSETFROM:-0600
TZOFFSETTO:-0500
TZNAME:CDT
END:DAYLIGHT
END:VTIMEZONE
END:VCALENDAR