BEGIN:VCALENDAR
VERSION:2.0
PRODID:-//wp-events-plugin.com//7.2.3.1//EN
TZID:America/Chicago
X-WR-TIMEZONE:America/Chicago
BEGIN:VEVENT
UID:850@thecraftchicks.com
DTSTART;TZID=America/Chicago:20260110T110000
DTEND;TZID=America/Chicago:20260110T170000
DTSTAMP:20260123T173609Z
URL:https://thecraftchicks.com/event/customize-and-reserve-3-2026-01-01-20
 26-01-02-2026-01-03-2026-01-07-2026-01-08-2026-01-09-2026-01-10/
SUMMARY:Customize And Reserve
DESCRIPTION:Want a Custom Project! Send us an email of a project you want. 
 You have to send it via email it to thecraftchickstomball@gmail.com  5 bu
 siness days prior to your selected day. We will have your project selectio
 n ready for you when you get here. These choices can be laser designs or p
 allets of your choice. If you have questions please give us a call 832-559
 -8060. A deposit of 30$ is required to hold your seat. This deposit will g
 o toward your project at check out. Unlike our walk-in projects these are 
 more customizable you can have your choice of a laser cut just send us a p
 hoto of what you would like to the email thecraftchickstomball@gmail.com.
  Laser cut projects 13in are going to be 35$ and Larger ones at 22in will
  be 55$ anything larger please let us know the dimensions and we will get 
 back with you on pricing. You can come in up until 3:30pm to complete your
  project.\n\nALL SALES are FINAL! If you cannot come in the day you reserv
 ed you can schedule for  another day available without charge. But you wi
 ll NOT get a refund for the project. These Projects are Custom so they are
  yours once payment is fulfilled if you cannot come and do not want to res
 chedule you will forfeit the 30$.
ATTACH;FMTTYPE=image/jpeg:https://thecraftchicks.com/wp-content/uploads/20
 24/10/Screen-Shot-2022-02-25-at-1.58.10-PM.png
CATEGORIES:Customize and Reserve
END:VEVENT
BEGIN:VTIMEZONE
TZID:America/Chicago
X-LIC-LOCATION:America/Chicago
BEGIN:STANDARD
DTSTART:20251102T010000
TZOFFSETFROM:-0500
TZOFFSETTO:-0600
TZNAME:CST
END:STANDARD
END:VTIMEZONE
END:VCALENDAR