BEGIN:VCALENDAR
VERSION:2.0
PRODID:-//wp-events-plugin.com//7.2.3.1//EN
TZID:America/Chicago
X-WR-TIMEZONE:America/Chicago
BEGIN:VEVENT
UID:666@thecraftchicks.com
DTSTART;TZID=America/Chicago:20250920T180000
DTEND;TZID=America/Chicago:20250920T200000
DTSTAMP:20250815T164146Z
URL:https://thecraftchicks.com/event/cp-craft-night/
SUMMARY:Single Moms Life Stage Event by Church Project
DESCRIPTION:Hello from the Craft Chicks we are so happy to be coming to 602
  Pruitt for this event! Please use the flyer above to select the project t
 hat you want to use and fill out the information below. You have already p
 aid for your project though CP event registration\, but we still need you 
 to register for the project that you want. This way we know what project t
 o bring for you. Before you register Please Read the following instruction
 s.\n\nWhen registering for this event please follow all instructions and g
 uidelines by Church Project. This is a registration for their community me
 mbers and a Private Event.\n\nWhen registering please register for the pro
 ject choice you want. You will proceed to checkout where we will charge yo
 u $0. You will still get the verification email of your project choice upo
 n registration. All our projects are laser cut and will come out wonderful
 .  Pieces are NOT already assembled so you paint each piece individually\
 , thus creating a near perfect project when glued together. We will be at 
 event to provide all instructions. Bows are included but will very from th
 e pictures. They are included with project at no additional charge.\n\nIMP
 ORTANT!  Please register under the NAME you want on project for option 3.
 \n\nExample 1: Project Option 3 Mary Brown we will cut out a B\n\n&nbsp\;\
 n\n&nbsp\;\n\nSee Y'all Soon!
ATTACH;FMTTYPE=image/jpeg:https://thecraftchicks.com/wp-content/uploads/20
 25/08/Copy-of-Copy-of-Beige-Collage-Year-Highlights-Instagram-Story-2.png
END:VEVENT
BEGIN:VTIMEZONE
TZID:America/Chicago
X-LIC-LOCATION:America/Chicago
BEGIN:DAYLIGHT
DTSTART:20250309T030000
TZOFFSETFROM:-0600
TZOFFSETTO:-0500
TZNAME:CDT
END:DAYLIGHT
END:VTIMEZONE
END:VCALENDAR