BEGIN:VCALENDAR
VERSION:2.0
PRODID:-//wp-events-plugin.com//7.2.3.1//EN
TZID:America/Chicago
X-WR-TIMEZONE:America/Chicago
BEGIN:VEVENT
UID:817@thecraftchicks.com
DTSTART;TZID=America/Chicago:20260214T090000
DTEND;TZID=America/Chicago:20260214T110000
DTSTAMP:20260120T194341Z
URL:https://thecraftchicks.com/event/color-me-saturday-2026-02-14/
SUMMARY:Color Me Saturday
DESCRIPTION:Family Canvas Paint Mornings!\n\n&nbsp\;\n\nCanvas paint and cr
 eate with us!\n\nThe Craft Chicks present- Family canvas painting- every S
 aturday morning from 9-11am. Come with your family for a few hours and mak
 e fun art with us!\n\nOur class does not require any prior painting experi
 ence or skill.\n\nEach canvas will be 11x14 and cost $45.\n\nWe provide al
 l of the art supplies and instructions\, you can bring your own snacks and
  nonalcoholic beverages. Our Saturday classes are geared towards families-
  no alcohol.\n\nOur artist will walk you through the featured canvas paint
 ing step-by-step.\n\nEvery person will leave with their own canvas\, and t
 heir added personal touch.\n\nAll projects can be taken home that same nig
 ht.\n\nParents can paint with their child and children can share a paintin
 g or have their own.\n\n If you want you can leave your child with us to p
 aint. Children must me 8 years old to be eligible for drop-off. \n\nPlease
  arrive 10min before class time\, instruction will begin promptly at 9am.\
 n\nIf you are unable to attend the class you will forfeit half of your $45
 . You can always give your spot to a friend .\n\nEach person is allowed to
  share their project with one other individual.\n\nNo more than two people
  per project.\n\n
ATTACH;FMTTYPE=image/jpeg:https://thecraftchicks.com/wp-content/uploads/20
 26/01/9DAF7EC5-BC92-489F-82A8-CAD0EFF0F5B2_1_102_o.jpeg
CATEGORIES:canvas painting
END:VEVENT
BEGIN:VTIMEZONE
TZID:America/Chicago
X-LIC-LOCATION:America/Chicago
BEGIN:STANDARD
DTSTART:20251102T010000
TZOFFSETFROM:-0500
TZOFFSETTO:-0600
TZNAME:CST
END:STANDARD
END:VTIMEZONE
END:VCALENDAR