BEGIN:VCALENDAR
VERSION:2.0
PRODID:-//wp-events-plugin.com//7.2.3.1//EN
TZID:America/Chicago
X-WR-TIMEZONE:America/Chicago
BEGIN:VEVENT
UID:543@thecraftchicks.com
DTSTART;TZID=America/Chicago:20250704T000000
DTEND;TZID=America/Chicago:20250704T000000
DTSTAMP:20250703T184207Z
URL:https://thecraftchicks.com/event/closed-happy-forth/
SUMMARY:CLOSED HAPPY FORTH
DESCRIPTION:CLOSED HAPPY 4th!
END:VEVENT
BEGIN:VTIMEZONE
TZID:America/Chicago
X-LIC-LOCATION:America/Chicago
BEGIN:DAYLIGHT
DTSTART:20250309T030000
TZOFFSETFROM:-0600
TZOFFSETTO:-0500
TZNAME:CDT
END:DAYLIGHT
END:VTIMEZONE
END:VCALENDAR