BEGIN:VCALENDAR
VERSION:2.0
PRODID:-//wp-events-plugin.com//7.2.3.1//EN
TZID:America/Chicago
X-WR-TIMEZONE:America/Chicago
BEGIN:VEVENT
UID:936@thecraftchicks.com
DTSTART;TZID=America/Chicago:20260329T150000
DTEND;TZID=America/Chicago:20260329T170000
DTSTAMP:20260329T185657Z
URL:https://thecraftchicks.com/event/chunky-knit-blanket-starter-blurb-202
 6-03-08-2026-03-29/
SUMMARY:Chunky Knit Blanket Starter
DESCRIPTION:Sunday Funday: Chunky Knit Kickstart!\nWant to learn the secret
  to those viral chunky blankets? Join us this Sunday from 3:00 PM – 5:00
  PM for\na "Starter" workshop. This class is designed to give you the perf
 ect head start on your DIY masterpiece!\nWe provide your first skein or tw
 o of cozy chenille yarn and the expert know-how to get your blanket\ngoing
 . You’ll spend the afternoon mastering the hand-knitting technique\, and
  you’ll head home with the\nconfidence (and the start of a blanket!) to 
 finish it all on your own. Bring your favorite snacks and drinks to\nfuel 
 your creativity!\n\nYou will NOT go home with a completed Blanket but with
  the skill and knowledge on how to finish it!
ATTACH;FMTTYPE=image/jpeg:https://thecraftchicks.com/wp-content/uploads/20
 26/02/knit.jpeg
CATEGORIES:Chunky Knit Blanket
END:VEVENT
BEGIN:VTIMEZONE
TZID:America/Chicago
X-LIC-LOCATION:America/Chicago
BEGIN:DAYLIGHT
DTSTART:20260308T030000
TZOFFSETFROM:-0600
TZOFFSETTO:-0500
TZNAME:CDT
END:DAYLIGHT
END:VTIMEZONE
END:VCALENDAR