BEGIN:VCALENDAR
VERSION:2.0
PRODID:-//wp-events-plugin.com//7.2.3.1//EN
TZID:America/Chicago
X-WR-TIMEZONE:America/Chicago
BEGIN:VEVENT
UID:515@thecraftchicks.com
DTSTART;TZID=America/Chicago:20250627T113000
DTEND;TZID=America/Chicago:20250627T143000
DTSTAMP:20250613T192615Z
URL:https://thecraftchicks.com/event/christmas-in-june-private-party/
SUMMARY:Christmas in June (Private party)
DESCRIPTION:Hello and Welcome We are Happy that you chose us here at the Cr
 aft Chicks! Your projects are going to be 13in  laser cut. Feel free to b
 ring food\, wine\, christmas cookies etc.
ATTACH;FMTTYPE=image/jpeg:https://thecraftchicks.com/wp-content/uploads/20
 25/05/2-2.png
END:VEVENT
BEGIN:VTIMEZONE
TZID:America/Chicago
X-LIC-LOCATION:America/Chicago
BEGIN:DAYLIGHT
DTSTART:20250309T030000
TZOFFSETFROM:-0600
TZOFFSETTO:-0500
TZNAME:CDT
END:DAYLIGHT
END:VTIMEZONE
END:VCALENDAR