BEGIN:VCALENDAR
VERSION:2.0
PRODID:-//wp-events-plugin.com//7.2.3.1//EN
TZID:America/Chicago
X-WR-TIMEZONE:America/Chicago
BEGIN:VEVENT
UID:681@thecraftchicks.com
DTSTART;TZID=America/Chicago:20251206T150000
DTEND;TZID=America/Chicago:20251206T173000
DTSTAMP:20251128T214211Z
URL:https://thecraftchicks.com/event/champions-pediatric-associates-holida
 y-party/
SUMMARY:Champions Pediatric Associates Holiday Party
DESCRIPTION:HELLO Y'ALL!! Welcome to the craft chicks feel free to bring dr
 inks\, snack etc.\n\nEveryone must Register by December 2.\n\nBows are not
  included but are available for purchase.\n\nWe will see you soon!
ATTACH;FMTTYPE=image/jpeg:https://thecraftchicks.com/wp-content/uploads/20
 25/09/Copy-of-Copy-of-Beige-Collage-Year-Highlights-Instagram-Story-1.png
END:VEVENT
BEGIN:VTIMEZONE
TZID:America/Chicago
X-LIC-LOCATION:America/Chicago
BEGIN:STANDARD
DTSTART:20251102T010000
TZOFFSETFROM:-0500
TZOFFSETTO:-0600
TZNAME:CST
END:STANDARD
END:VTIMEZONE
END:VCALENDAR