BEGIN:VCALENDAR
VERSION:2.0
PRODID:-//wp-events-plugin.com//7.2.3.1//EN
TZID:America/Chicago
X-WR-TIMEZONE:America/Chicago
BEGIN:VEVENT
UID:724@thecraftchicks.com
DTSTART;TZID=America/Chicago:20251108T150000
DTEND;TZID=America/Chicago:20251108T173000
DTSTAMP:20251107T172215Z
URL:https://thecraftchicks.com/event/champions-pediatric-associates-holida
 y-party-2/
SUMMARY:Latisha's Bridal Party
DESCRIPTION:HELLO Y'ALL!! Welcome to The Craft Chicks feel free to bring dr
 inks\, snack etc.\n\nEveryone must Register by November 3.\n\n!! If you ch
 oose option 3 please enter Desired last name  letter in Notes.\n\nBows ar
 e not included but are available for purchase from $10-$15.\n\nWe will see
  you soon!
ATTACH;FMTTYPE=image/jpeg:https://thecraftchicks.com/wp-content/uploads/20
 25/10/Copy-of-Copy-of-Beige-Collage-Year-Highlights-Instagram-Story-1.png
END:VEVENT
BEGIN:VTIMEZONE
TZID:America/Chicago
X-LIC-LOCATION:America/Chicago
BEGIN:STANDARD
DTSTART:20251102T010000
TZOFFSETFROM:-0500
TZOFFSETTO:-0600
TZNAME:CST
END:STANDARD
END:VTIMEZONE
END:VCALENDAR