BEGIN:VCALENDAR
VERSION:2.0
PRODID:-//wp-events-plugin.com//7.2.3.1//EN
TZID:America/Chicago
X-WR-TIMEZONE:America/Chicago
BEGIN:VEVENT
UID:250@thecraftchicks.com
DTSTART;TZID=America/Chicago:20241019T110000
DTEND;TZID=America/Chicago:20241019T110000
DTSTAMP:20240925T185444Z
URL:https://thecraftchicks.com/event/build-a-frankenstein-cookie-decoratin
 g-class/
SUMMARY:Build a Frankenstein Cookie Decorating Class
DESCRIPTION:Join us on Thursday\, October 19th\, at 11am  at The Craft Chi
 cks in Old Town Tomball for a build a Frank cookie decorating class.\n\nWa
 nt to learn how to decorate sugar cookies? Join our class for beginners!(H
 osted by Gifted and Grace founder Kelsey!)\nNo experience needed.\nWe will
  cover simple piping and filling techniques\, and you’ll take home Three
  decorated cookies that create a Frankenstein\,\njust like the picture –
  all the supplies will be provided.\n\nBring your own drinks (alcoholic dr
 inks are allowed) and snacks.\n\nRegister Here 
ATTACH;FMTTYPE=image/jpeg:https://thecraftchicks.com/wp-content/uploads/20
 24/09/Cookie-1019.jpeg
END:VEVENT
BEGIN:VTIMEZONE
TZID:America/Chicago
X-LIC-LOCATION:America/Chicago
BEGIN:DAYLIGHT
DTSTART:20240310T030000
TZOFFSETFROM:-0600
TZOFFSETTO:-0500
TZNAME:CDT
END:DAYLIGHT
END:VTIMEZONE
END:VCALENDAR