BEGIN:VCALENDAR
VERSION:2.0
PRODID:-//wp-events-plugin.com//7.2.3.1//EN
TZID:America/Chicago
X-WR-TIMEZONE:America/Chicago
BEGIN:VEVENT
UID:478@thecraftchicks.com
DTSTART;TZID=America/Chicago:20250329T140000
DTEND;TZID=America/Chicago:20250329T180000
DTSTAMP:20250321T183245Z
URL:https://thecraftchicks.com/event/bachelorette-private-party/
SUMMARY:Bachelorette Private Party
DESCRIPTION:Hello and Welcome to the Craft Chicks! We will see you see on M
 arch 29th at 2pm. You are welcome to bring your own decorations\, Beverage
 s and Snacks!\n\nPlease email us Your last name Initial if you choose opti
 on 1 to thecraftchickstomball@gmail.com\n\nPlease email you name if you do
  not want the welcome for option 3 thecraftchickstomball@gmail.com\n\n&nbs
 p\;\n\n&nbsp\;
ATTACH;FMTTYPE=image/jpeg:https://thecraftchicks.com/wp-content/uploads/20
 25/03/Copy-of-Beige-Collage-Year-Highlights-Instagram-Story.png
END:VEVENT
BEGIN:VTIMEZONE
TZID:America/Chicago
X-LIC-LOCATION:America/Chicago
BEGIN:DAYLIGHT
DTSTART:20250309T030000
TZOFFSETFROM:-0600
TZOFFSETTO:-0500
TZNAME:CDT
END:DAYLIGHT
END:VTIMEZONE
END:VCALENDAR