BEGIN:VCALENDAR
VERSION:2.0
PRODID:-//wp-events-plugin.com//7.2.3.1//EN
TZID:America/Chicago
X-WR-TIMEZONE:America/Chicago
BEGIN:VEVENT
UID:723@thecraftchicks.com
DTSTART;TZID=America/Chicago:20251102T140000
DTEND;TZID=America/Chicago:20251102T160000
DTSTAMP:20251029T230747Z
URL:https://thecraftchicks.com/event/autumns-10th-birthday/
SUMMARY:Autumns 10th Birthday
DESCRIPTION:Autumn's 10th Birthday\n\nThe Craft Chicks Tomball will Celebra
 te Autumns 10th Birthday Private Event!
ATTACH;FMTTYPE=image/jpeg:https://thecraftchicks.com/wp-content/uploads/20
 25/10/unnamed.png
END:VEVENT
BEGIN:VTIMEZONE
TZID:America/Chicago
X-LIC-LOCATION:America/Chicago
BEGIN:STANDARD
DTSTART:20251102T010000
TZOFFSETFROM:-0500
TZOFFSETTO:-0600
TZNAME:CST
END:STANDARD
END:VTIMEZONE
END:VCALENDAR