BEGIN:VCALENDAR
VERSION:2.0
PRODID:-//wp-events-plugin.com//7.2.3.1//EN
TZID:America/Chicago
X-WR-TIMEZONE:America/Chicago
BEGIN:VEVENT
UID:679@thecraftchicks.com
DTSTART;TZID=America/Chicago:20250917T150000
DTEND;TZID=America/Chicago:20250917T173000
DTSTAMP:20250910T192427Z
URL:https://thecraftchicks.com/event/ace-team-building-craft-day/
SUMMARY:ACE Team Building Craft Day
DESCRIPTION:HELLO Y'ALL!! Welcome to the craft chicks feel free to bring dr
 inks\, snack etc.\n\nEveryone must Register by September 13.\n\nFor GHOST 
 Project Please include in NOTES what you want. Example (Two little girls\,
  one mom\, one dad\, two cats\, one grandma and grandpa. Names kaly\, kimi
 \, stacy\, tom\, bill\, karen.\n\nThere are two Sizes please Register for 
 either Large or Small\n\nWe will see you soon!
ATTACH;FMTTYPE=image/jpeg:https://thecraftchicks.com/wp-content/uploads/20
 25/09/Copy-of-Beige-Collage-Year-Highlights-Instagram-Story-7.png
END:VEVENT
BEGIN:VTIMEZONE
TZID:America/Chicago
X-LIC-LOCATION:America/Chicago
BEGIN:DAYLIGHT
DTSTART:20250309T030000
TZOFFSETFROM:-0600
TZOFFSETTO:-0500
TZNAME:CDT
END:DAYLIGHT
END:VTIMEZONE
END:VCALENDAR