BEGIN:VCALENDAR
VERSION:2.0
PRODID:-//wp-events-plugin.com//7.2.3.1//EN
TZID:America/Chicago
X-WR-TIMEZONE:America/Chicago
BEGIN:VEVENT
UID:725@thecraftchicks.com
DTSTART;TZID=America/Chicago:20251106T143000
DTEND;TZID=America/Chicago:20251106T170000
DTSTAMP:20251025T175536Z
URL:https://thecraftchicks.com/event/ace-orthodontics-holiday-paint-party/
SUMMARY:ACE Orthodontics Holiday Paint Party
DESCRIPTION:HELLO Y'ALL!! Welcome to The Craft Chicks feel free to bring dr
 inks\, snack etc.\n\nEveryone must Register by November 1st.\n\n!! *If you
  choose option 3 please enter Desired last name  letter in Notes. *If you
  choose option 6 please enter Names in Notes.!!\n\nBows are not included b
 ut are available for purchase from $10-$25.\n\nWe will see you soon!
ATTACH;FMTTYPE=image/jpeg:https://thecraftchicks.com/wp-content/uploads/20
 25/10/Copy-of-Copy-of-Beige-Collage-Year-Highlights-Instagram-Story.jpg
END:VEVENT
BEGIN:VTIMEZONE
TZID:America/Chicago
X-LIC-LOCATION:America/Chicago
BEGIN:STANDARD
DTSTART:20251102T010000
TZOFFSETFROM:-0500
TZOFFSETTO:-0600
TZNAME:CST
END:STANDARD
END:VTIMEZONE
END:VCALENDAR