BEGIN:VCALENDAR
VERSION:2.0
PRODID:-//wp-events-plugin.com//7.2.3.1//EN
TZID:America/Chicago
X-WR-TIMEZONE:America/Chicago
BEGIN:VEVENT
UID:507@thecraftchicks.com
DTSTART;TZID=America/Chicago:20250724T090000
DTEND;TZID=America/Chicago:20250724T130000
DTSTAMP:20250425T184710Z
URL:https://thecraftchicks.com/event/23946/
SUMMARY:Swag Art Camp
DESCRIPTION:SWAG camp! Where it is all about You!\n\nPlease Register By goi
 ng to Calendar DAY July 23rd and registering there\n\nLet's make swag for
  your room!!\n\nMonograms/Name signs\n\nDoor hanger\n\nSports signs or Pal
 let word signs\n\nInterchangeable Room Project\n\nand more!!\n\n&nbsp\;\n\
 nRegistration for camp includes a camp t-shirt and daily crafts.Campers wi
 ll need to bring a Lunch/snacks and water bottle.Ages 7 and up.(five-six y
 ear olds are permitted if accompanied with sibling 8 or older)We will prov
 ide snacks.Camp fees are non-refundable.  If camper is not able to partic
 ipate in the camp registered for\, we will allow camper to transfer to ano
 ther camp.Upon Registration please email us at the Craftchickstomball@gmai
 l.com for T-shirt size. We do recommend a size larger to protect their clo
 thes it act more like a smock.
ATTACH;FMTTYPE=image/jpeg:https://thecraftchicks.com/wp-content/uploads/20
 25/04/Register-now.png
END:VEVENT
BEGIN:VTIMEZONE
TZID:America/Chicago
X-LIC-LOCATION:America/Chicago
BEGIN:DAYLIGHT
DTSTART:20250309T030000
TZOFFSETFROM:-0600
TZOFFSETTO:-0500
TZNAME:CDT
END:DAYLIGHT
END:VTIMEZONE
END:VCALENDAR