BEGIN:VCALENDAR
VERSION:2.0
PRODID:-//wp-events-plugin.com//7.2.3.1//EN
TZID:America/Chicago
X-WR-TIMEZONE:America/Chicago
BEGIN:VEVENT
UID:475@thecraftchicks.com
DTSTART;TZID=America/Chicago:20250322T170000
DTEND;TZID=America/Chicago:20250322T200000
DTSTAMP:20250227T230223Z
URL:https://thecraftchicks.com/event/23839/
SUMMARY:Private M1 Ladies night
DESCRIPTION:Please register for one of the projects. If you choose the 13in
  option the price is 35$. The size option of 22in is 55$. All sales are fi
 nal but if you cannot come you can come pick up your project. We will pack
  all the paint and supplies for pick-up if you cannot come. Registration w
 ill close Tuesday the 18th.
ATTACH;FMTTYPE=image/jpeg:https://thecraftchicks.com/wp-content/uploads/20
 25/02/Beige-Collage-Year-Highlights-Instagram-Story-4.png
END:VEVENT
BEGIN:VTIMEZONE
TZID:America/Chicago
X-LIC-LOCATION:America/Chicago
BEGIN:DAYLIGHT
DTSTART:20250309T030000
TZOFFSETFROM:-0600
TZOFFSETTO:-0500
TZNAME:CDT
END:DAYLIGHT
END:VTIMEZONE
END:VCALENDAR