BEGIN:VCALENDAR
VERSION:2.0
PRODID:-//wp-events-plugin.com//7.2.3.1//EN
TZID:America/Chicago
X-WR-TIMEZONE:America/Chicago
BEGIN:VEVENT
UID:296@thecraftchicks.com
DTSTART;TZID=America/Chicago:20241103T130000
DTEND;TZID=America/Chicago:20241103T180000
DTSTAMP:20241018T183659Z
URL:https://thecraftchicks.com/event/22518/
SUMMARY:Custom Project Day
DESCRIPTION:\n\nWant a Custom Project! Send us an email of a project you wa
 nt. You have to send  via email it to thecraftchickstomball@gmail.com  3
  business days prior to your selected day. We will have your project selec
 tion ready for you when you get here. These choices can be laser designs o
 r pallets of your choice. If you have questions please give us a call. A d
 eposit of 20$ is required to hold your seat. This deposit will go toward y
 our project at check out. Unlike our walk-ins these are more customizable 
 you can have your choice of laser cut or pallet just send us a photo of wh
 at you would like to the email.
ATTACH;FMTTYPE=image/jpeg:https://thecraftchicks.com/wp-content/uploads/20
 24/10/Screen-Shot-2022-02-25-at-1.58.10-PM.png
END:VEVENT
BEGIN:VTIMEZONE
TZID:America/Chicago
X-LIC-LOCATION:America/Chicago
BEGIN:STANDARD
DTSTART:20241103T010000
TZOFFSETFROM:-0500
TZOFFSETTO:-0600
TZNAME:CST
END:STANDARD
END:VTIMEZONE
END:VCALENDAR