BEGIN:VCALENDAR
VERSION:2.0
PRODID:-//wp-events-plugin.com//7.2.3.1//EN
TZID:America/Chicago
X-WR-TIMEZONE:America/Chicago
BEGIN:VEVENT
UID:300@thecraftchicks.com
DTSTART;TZID=America/Chicago:20241201T150000
DTEND;TZID=America/Chicago:20241201T180000
DTSTAMP:20241129T171544Z
URL:https://thecraftchicks.com/event/11p-volleyball/
SUMMARY:11P Volleyball
DESCRIPTION:WE are happy to host you  11P at the Craft Chicks. Please emai
 l us your name after you register. Email us here at thecraftchickstomball@
 gmail.com\n\nSee you Soon.
ATTACH;FMTTYPE=image/jpeg:https://thecraftchicks.com/wp-content/uploads/20
 24/11/20-1.png
END:VEVENT
BEGIN:VTIMEZONE
TZID:America/Chicago
X-LIC-LOCATION:America/Chicago
BEGIN:STANDARD
DTSTART:20241103T010000
TZOFFSETFROM:-0500
TZOFFSETTO:-0600
TZNAME:CST
END:STANDARD
END:VTIMEZONE
END:VCALENDAR